BEGIN:VCALENDAR
VERSION:2.0
PRODID:-//CIBERONC - ECPv6.11.2//NONSGML v1.0//EN
CALSCALE:GREGORIAN
METHOD:PUBLISH
X-WR-CALNAME:CIBERONC
X-ORIGINAL-URL:https://biopsia-liquida.ciberonc.es
X-WR-CALDESC:Events for CIBERONC
REFRESH-INTERVAL;VALUE=DURATION:PT1H
X-Robots-Tag:noindex
X-PUBLISHED-TTL:PT1H
BEGIN:VTIMEZONE
TZID:Europe/Madrid
BEGIN:DAYLIGHT
TZOFFSETFROM:+0100
TZOFFSETTO:+0200
TZNAME:CEST
DTSTART:20220327T010000
END:DAYLIGHT
BEGIN:STANDARD
TZOFFSETFROM:+0200
TZOFFSETTO:+0100
TZNAME:CET
DTSTART:20221030T010000
END:STANDARD
END:VTIMEZONE
BEGIN:VEVENT
DTSTART;TZID=Europe/Madrid:20220619T080000
DTEND;TZID=Europe/Madrid:20220624T170000
DTSTAMP:20260421T074921
CREATED:20220526T095738Z
LAST-MODIFIED:20220526T095738Z
UID:788-1655625600-1656090000@biopsia-liquida.ciberonc.es
SUMMARY:Advancing to Clinical Applications for Precision Medicine in Liquid Biopsy Research
DESCRIPTION:Gordon Research Conference \nChairs: Klaus Pantel and Shana O. Kelley \nVice Chairs: Min Yu and Rosandra N. Kaplan \nContact Chairs
URL:https://biopsia-liquida.ciberonc.es/event/advancing-to-clinical-applications-for-precision-medicine-in-liquid-biopsy-research-2/
END:VEVENT
END:VCALENDAR