BEGIN:VCALENDAR
VERSION:2.0
PRODID:-//CIBERONC - ECPv6.11.2//NONSGML v1.0//EN
CALSCALE:GREGORIAN
METHOD:PUBLISH
X-WR-CALNAME:CIBERONC
X-ORIGINAL-URL:https://biopsia-liquida.ciberonc.es
X-WR-CALDESC:Events for CIBERONC
REFRESH-INTERVAL;VALUE=DURATION:PT1H
X-Robots-Tag:noindex
X-PUBLISHED-TTL:PT1H
BEGIN:VTIMEZONE
TZID:Europe/Madrid
BEGIN:DAYLIGHT
TZOFFSETFROM:+0100
TZOFFSETTO:+0200
TZNAME:CEST
DTSTART:20210328T010000
END:DAYLIGHT
BEGIN:STANDARD
TZOFFSETFROM:+0200
TZOFFSETTO:+0100
TZNAME:CET
DTSTART:20211031T010000
END:STANDARD
END:VTIMEZONE
BEGIN:VEVENT
DTSTART;VALUE=DATE:20210126
DTEND;VALUE=DATE:20210129
DTSTAMP:20260422T023306
CREATED:20200929T160109Z
LAST-MODIFIED:20200930T064530Z
UID:674-1611619200-1611878399@biopsia-liquida.ciberonc.es
SUMMARY:VI Simposio de Biopsia Líquida: el camino a la Oncología de precisión
DESCRIPTION:
URL:https://biopsia-liquida.ciberonc.es/event/vi-simposio-de-biopsia-liquida-el-camino-a-la-oncologia-de-precision-2/
LOCATION:Santiago de Compostela\, Santiago de Compostela\, Spain
CATEGORIES:Conferences
END:VEVENT
END:VCALENDAR