BEGIN:VCALENDAR
VERSION:2.0
PRODID:-//CIBERONC - ECPv6.11.2//NONSGML v1.0//EN
CALSCALE:GREGORIAN
METHOD:PUBLISH
X-WR-CALNAME:CIBERONC
X-ORIGINAL-URL:https://biopsia-liquida.ciberonc.es
X-WR-CALDESC:Events for CIBERONC
REFRESH-INTERVAL;VALUE=DURATION:PT1H
X-Robots-Tag:noindex
X-PUBLISHED-TTL:PT1H
BEGIN:VTIMEZONE
TZID:Europe/Madrid
BEGIN:DAYLIGHT
TZOFFSETFROM:+0100
TZOFFSETTO:+0200
TZNAME:CEST
DTSTART:20220327T010000
END:DAYLIGHT
BEGIN:STANDARD
TZOFFSETFROM:+0200
TZOFFSETTO:+0100
TZNAME:CET
DTSTART:20221030T010000
END:STANDARD
END:VTIMEZONE
BEGIN:VEVENT
DTSTART;VALUE=DATE:20220719
DTEND;VALUE=DATE:20220721
DTSTAMP:20260421T001508
CREATED:20220711T064605Z
LAST-MODIFIED:20220711T065133Z
UID:804-1658188800-1658361599@biopsia-liquida.ciberonc.es
SUMMARY:International Conference on Oncology and Biomarkers ICOB
DESCRIPTION:  \n\nThe International Research Conference Aims and Objectives\n\nThe International Research Conference is a federated organization dedicated to bringing together a significant number of diverse scholarly events for presentation within the conference program. Events will run over a span of time during the conference depending on the number and length of the presentations. With its high quality\, it provides an exceptional value for students\, academics and industry researchers. \nInternational Conference on Oncology and Biomarkers aims to bring together leading academic scientists\, researchers and research scholars to exchange and share their experiences and research results on all aspects of Oncology and Biomarkers. It also provides a premier interdisciplinary platform for researchers\, practitioners and educators to present and discuss the most recent innovations\, trends\, and concerns as well as practical challenges encountered and solutions adopted in the fields of Oncology and Biomarkers.
URL:https://biopsia-liquida.ciberonc.es/event/international-conference-on-oncology-and-biomarkers-icob/
LOCATION:Copenhagen
CATEGORIES:Conferences
END:VEVENT
END:VCALENDAR