BEGIN:VCALENDAR
VERSION:2.0
PRODID:-//CIBERONC - ECPv6.11.2//NONSGML v1.0//EN
CALSCALE:GREGORIAN
METHOD:PUBLISH
X-ORIGINAL-URL:https://biopsia-liquida.ciberonc.es
X-WR-CALDESC:Events for CIBERONC
REFRESH-INTERVAL;VALUE=DURATION:PT1H
X-Robots-Tag:noindex
X-PUBLISHED-TTL:PT1H
BEGIN:VTIMEZONE
TZID:Europe/Madrid
BEGIN:DAYLIGHT
TZOFFSETFROM:+0100
TZOFFSETTO:+0200
TZNAME:CEST
DTSTART:20220327T010000
END:DAYLIGHT
BEGIN:STANDARD
TZOFFSETFROM:+0200
TZOFFSETTO:+0100
TZNAME:CET
DTSTART:20221030T010000
END:STANDARD
END:VTIMEZONE
BEGIN:VEVENT
DTSTART;VALUE=DATE:20221018
DTEND;VALUE=DATE:20221022
DTSTAMP:20260420T192731
CREATED:20220711T070629Z
LAST-MODIFIED:20220711T070629Z
UID:824-1666051200-1666396799@biopsia-liquida.ciberonc.es
SUMMARY:SEOM 2022
DESCRIPTION: 
URL:https://biopsia-liquida.ciberonc.es/event/seom-2022/
LOCATION:Madrid
CATEGORIES:Conferences
END:VEVENT
END:VCALENDAR