BEGIN:VCALENDAR
VERSION:2.0
PRODID:-//CIBERONC - ECPv6.11.2//NONSGML v1.0//EN
CALSCALE:GREGORIAN
METHOD:PUBLISH
X-WR-CALNAME:CIBERONC
X-ORIGINAL-URL:https://biopsia-liquida.ciberonc.es
X-WR-CALDESC:Events for CIBERONC
REFRESH-INTERVAL;VALUE=DURATION:PT1H
X-Robots-Tag:noindex
X-PUBLISHED-TTL:PT1H
BEGIN:VTIMEZONE
TZID:Europe/Madrid
BEGIN:DAYLIGHT
TZOFFSETFROM:+0100
TZOFFSETTO:+0200
TZNAME:CEST
DTSTART:20230326T010000
END:DAYLIGHT
BEGIN:STANDARD
TZOFFSETFROM:+0200
TZOFFSETTO:+0100
TZNAME:CET
DTSTART:20231029T010000
END:STANDARD
END:VTIMEZONE
BEGIN:VEVENT
DTSTART;VALUE=DATE:20230325
DTEND;VALUE=DATE:20230327
DTSTAMP:20260422T091247
CREATED:20220711T065429Z
LAST-MODIFIED:20220711T065429Z
UID:812-1679702400-1679875199@biopsia-liquida.ciberonc.es
SUMMARY:ICCSTLBT 2023: 17. International Conference on Cancer Screening Tests and Liquid Biopsy Test
DESCRIPTION:The International Research Conference Aims and Objectives\n\nThe International Research Conference is a federated organization dedicated to bringing together a significant number of diverse scholarly events for presentation within the conference program. Events will run over a span of time during the conference depending on the number and length of the presentations. With its high quality\, it provides an exceptional value for students\, academics and industry researchers. \nInternational Conference on Cancer Screening Tests and Liquid Biopsy Test aims to bring together leading academic scientists\, researchers and research scholars to exchange and share their experiences and research results on all aspects of Cancer Screening Tests and Liquid Biopsy Test. It also provides a premier interdisciplinary platform for researchers\, practitioners and educators to present and discuss the most recent innovations\, trends\, and concerns as well as practical challenges encountered and solutions adopted in the fields of Cancer Screening Tests and Liquid Biopsy Test.
URL:https://biopsia-liquida.ciberonc.es/event/iccstlbt-2023-17-international-conference-on-cancer-screening-tests-and-liquid-biopsy-test/
LOCATION:Madrid
CATEGORIES:Conferences
END:VEVENT
BEGIN:VEVENT
DTSTART;VALUE=DATE:20230424
DTEND;VALUE=DATE:20230427
DTSTAMP:20260422T091247
CREATED:20220711T065054Z
LAST-MODIFIED:20220711T065054Z
UID:808-1682294400-1682553599@biopsia-liquida.ciberonc.es
SUMMARY:3rd Edition of International Precision Medicine Conference
DESCRIPTION:Liquid biopsy\n\nThe sampling and analysis of non-solid biological tissue\, typically blood\, is known as a liquid biopsy\, also known as fluid biopsy or fluid phase biopsy. This type of method\, like traditional biopsy\, is primarily utilized as a diagnostic and monitoring tool for disorders like cancer\, with the added benefit of being relatively non-invasive. As a result\, it can be done more regularly\, allowing for better tracking of tumors and mutations over time. By obtaining numerous liquid biopsy samples over a few weeks\, it can also be used to validate the efficacy of a cancer treatment medicine. Patients may find the device useful in monitoring relapse after treatment. \n\nFluid biopsy\nFluid phase biopsy\nCancer biopsy\nTraditional biopsy
URL:https://biopsia-liquida.ciberonc.es/event/3rd-edition-of-international-precision-medicine-conference/
LOCATION:Orlando
CATEGORIES:Conferences
END:VEVENT
END:VCALENDAR