BEGIN:VCALENDAR
VERSION:2.0
PRODID:-//CIBERONC - ECPv6.11.2//NONSGML v1.0//EN
CALSCALE:GREGORIAN
METHOD:PUBLISH
X-ORIGINAL-URL:https://biopsia-liquida.ciberonc.es
X-WR-CALDESC:Events for CIBERONC
REFRESH-INTERVAL;VALUE=DURATION:PT1H
X-Robots-Tag:noindex
X-PUBLISHED-TTL:PT1H
BEGIN:VTIMEZONE
TZID:Europe/Madrid
BEGIN:DAYLIGHT
TZOFFSETFROM:+0100
TZOFFSETTO:+0200
TZNAME:CEST
DTSTART:20200329T010000
END:DAYLIGHT
BEGIN:STANDARD
TZOFFSETFROM:+0200
TZOFFSETTO:+0100
TZNAME:CET
DTSTART:20201025T010000
END:STANDARD
END:VTIMEZONE
BEGIN:VEVENT
DTSTART;VALUE=DATE:20201124
DTEND;VALUE=DATE:20201127
DTSTAMP:20260421T155501
CREATED:20201019T102723Z
LAST-MODIFIED:20201019T103027Z
UID:690-1606176000-1606435199@biopsia-liquida.ciberonc.es
SUMMARY:Simposio ONCO-ID 2020
DESCRIPTION:En los últimos años se han producido avances de una gran magnitud en el diagnóstico y tratamiento del cáncer. Estos se deben\, principalmente\, al mejor conocimiento de su biología\, consecuencia\, en gran medida\, de la aparición de las modernas técnicas de secuenciación genética y de una nueva disciplina\, la inmuno-oncología. A esto hay que sumar los grandes logros en el campo de la tecnología farmacéutica que han llevado al desarrollo de fármacos oncológicos cada vez más específicos\, y por tanto más eficaces y menos tóxicos para los pacientes. Aunque estos importantes avances en el diagnóstico y el tratamiento del cáncer no han ocurrido en todos los subtipos por igual\, es cuestión de tiempo que acaben por producirse en todas las entidades oncológicas. Para poder llegar a un diagnóstico más preciso y ofrecer las mejores opciones terapéuticas a los pacientes\, y\, también\, y no menos importante\, para seguir avanzando en la investigación contra el cáncer\, es fundamental generalizar el conocimiento práctico de la oncología de precisión. Durante esta primera edición del Simposio ONCO-ID 2020\, pretendemos revisar y discutir todos aquellos aspectos relacionados con los biomarcadores tanto fluidos como en tejido\, y su utilidad para el empleo de terapias de precisión que son ya una realidad o van a serlo en un futuro próximo. Para ello contaremos con ponentes y moderadores de primer nivel nacional e internacional y abarcaremos todas las entidades oncológicas dentro de los tumores sólidos. Sin más\, queremos invitarte a asistir y acompañarnos a la 1ª edición del Simposio ONCO-ID de manera virtual que tendrá lugar los próximos 24\, 25 y 26 de noviembre de 2020.
URL:https://biopsia-liquida.ciberonc.es/event/simposio-onco-id-2020/
CATEGORIES:Meetings
END:VEVENT
END:VCALENDAR