BEGIN:VCALENDAR
VERSION:2.0
PRODID:-//CIBERONC - ECPv6.11.2//NONSGML v1.0//EN
CALSCALE:GREGORIAN
METHOD:PUBLISH
X-ORIGINAL-URL:https://biopsia-liquida.ciberonc.es
X-WR-CALDESC:Events for CIBERONC
REFRESH-INTERVAL;VALUE=DURATION:PT1H
X-Robots-Tag:noindex
X-PUBLISHED-TTL:PT1H
BEGIN:VTIMEZONE
TZID:Europe/Madrid
BEGIN:DAYLIGHT
TZOFFSETFROM:+0100
TZOFFSETTO:+0200
TZNAME:CEST
DTSTART:20220327T010000
END:DAYLIGHT
BEGIN:STANDARD
TZOFFSETFROM:+0200
TZOFFSETTO:+0100
TZNAME:CET
DTSTART:20221030T010000
END:STANDARD
END:VTIMEZONE
BEGIN:VEVENT
DTSTART;TZID=Europe/Madrid:20221020T080000
DTEND;TZID=Europe/Madrid:20221022T170000
DTSTAMP:20260420T011419
CREATED:20220527T112951Z
LAST-MODIFIED:20220527T113017Z
UID:790-1666252800-1666458000@biopsia-liquida.ciberonc.es
SUMMARY:4th Annual Congress Liquid Biopsy
DESCRIPTION:
URL:https://biopsia-liquida.ciberonc.es/event/4th-annual-congress-liquid-biopsy/
LOCATION:Miami\, United States
CATEGORIES:Meetings
END:VEVENT
END:VCALENDAR